BEGIN:VCALENDAR
VERSION:2.0
PRODID:-//wp-events-plugin.com//7.2.2.1//EN
TZID:Europe/London
X-WR-TIMEZONE:Europe/London
BEGIN:VEVENT
UID:18@siriusbusinessservices.co.uk
DTSTART;TZID=Europe/London:20160406T090000
DTEND;TZID=Europe/London:20160406T160000
DTSTAMP:20160316T083922Z
URL:https://www.siriusbusinessservices.co.uk/courses/emergency-first-aid-a
 t-work-course/
SUMMARY:Emergency First Aid at Work Course
DESCRIPTION:Certification\nAssessment is ongoing by the instructor\, along 
 with a multiple choice question paper\, and a three year qualification wil
 l be issued to those who satisfy the criteria. In addition\, the HSE stron
 gly recommend that all students undergo an annual refresher programme of t
 hree hours.\nNumbers\nA maximum of 12 students can be accommodated on this
  course and all candidates must be a minimum of 16 years of age to qualify
 .\n\nClick for full course details page: Emergency First Aid at Work Level
  2
CATEGORIES:First Aid &amp; Medical
LOCATION:Weymouth South Scout Hut\, Rylands Lane\, Weymouth\, Dorset\, DT4 
 9PY\, Wyke Regis\, United Kingdom
GEO:50.5958775;-2.4691808999999694
X-APPLE-STRUCTURED-LOCATION;VALUE=URI;X-ADDRESS=Rylands Lane\, Weymouth\, D
 orset\, DT4 9PY\, Wyke Regis\, United Kingdom;X-APPLE-RADIUS=100;X-TITLE=W
 eymouth South Scout Hut:geo:50.5958775,-2.4691808999999694
END:VEVENT
BEGIN:VTIMEZONE
TZID:Europe/London
X-LIC-LOCATION:Europe/London
BEGIN:DAYLIGHT
DTSTART:20160327T020000
TZOFFSETFROM:+0000
TZOFFSETTO:+0100
TZNAME:BST
END:DAYLIGHT
END:VTIMEZONE
END:VCALENDAR