BEGIN:VCALENDAR
VERSION:2.0
PRODID:-//wp-events-plugin.com//7.2.2.1//EN
TZID:Europe/London
X-WR-TIMEZONE:Europe/London
BEGIN:VEVENT
UID:17@siriusbusinessservices.co.uk
DTSTART;TZID=Europe/London:20160128T090000
DTEND;TZID=Europe/London:20160128T160000
DTSTAMP:20151216T094445Z
URL:https://www.siriusbusinessservices.co.uk/courses/emergency-first-aid-w
 ork-level-2-6/
SUMMARY:Emergency First Aid at Work Level 2
DESCRIPTION:Certification\nAssessment is ongoing by the instructor\, along 
 with a multiple choice question paper\, and a three year qualification wil
 l be issued to those who satisfy the criteria. In addition\, the HSE stron
 gly recommend that all students undergo an annual refresher programme of t
 hree hours.\nNumbers\nA maximum of 12 students can be accommodated on this
  course and all candidates must be a minimum of 16 years of age to qualify
 .\n\nClick for full course details page: Emergency First Aid at Work Level
  2
CATEGORIES:First Aid &amp; Medical
LOCATION:Quality Time Training Portland\, Unit 9\, Portland Marina\, Osprey
  Quay\, PORTLAND\, Dorset\, DT5 1DX\, Dorset\, United Kingdom
GEO:50.5697301;-2.4514110000000073
X-APPLE-STRUCTURED-LOCATION;VALUE=URI;X-ADDRESS=Unit 9\, Portland Marina\, 
 Osprey Quay\, PORTLAND\, Dorset\, DT5 1DX\, Dorset\, United Kingdom;X-APPL
 E-RADIUS=100;X-TITLE=Quality Time Training Portland:geo:50.5697301,-2.4514
 110000000073
END:VEVENT
BEGIN:VTIMEZONE
TZID:Europe/London
X-LIC-LOCATION:Europe/London
BEGIN:STANDARD
DTSTART:20151025T010000
TZOFFSETFROM:+0100
TZOFFSETTO:+0000
TZNAME:GMT
END:STANDARD
END:VTIMEZONE
END:VCALENDAR