BEGIN:VCALENDAR
VERSION:2.0
PRODID:-//wp-events-plugin.com//7.2.2.1//EN
TZID:Europe/London
X-WR-TIMEZONE:Europe/London
BEGIN:VEVENT
UID:20@siriusbusinessservices.co.uk
DTSTART;TZID=Europe/London:20160818T090000
DTEND;TZID=Europe/London:20160818T163000
DTSTAMP:20160813T080027Z
URL:https://www.siriusbusinessservices.co.uk/courses/emergency-first-aid-w
 ork-level2/
SUMMARY:Emergency First Aid at Work Level 2
DESCRIPTION:Certification\nAssessment is ongoing by the instructor\, along 
 with a multiple choice question paper\, and a three year qualification wil
 l be issued to those who satisfy the criteria. In addition\, the HSE stron
 gly recommend that all students undergo an annual refresher programme of t
 hree hours.\nNumbers\nA maximum of 6 students can be accommodated on this 
 course and all candidates must be a minimum of 16 years of age to qualify.
 \n\nClick for full course details page: Emergency First Aid at Work Level 
 2\n\nEnquiries about this course: Gary Hepburn\, Contact email\, freephone
  0800 999 3998
ATTACH;FMTTYPE=image/jpeg:https://www.siriusbusinessservices.co.uk/wp-cont
 ent/uploads/First-Aid-Page-v1-11.jpg
CATEGORIES:First Aid &amp; Medical
LOCATION:The Heights Hotel\, Yeates Rd\, Portland\, Dorset\, DT5 2EN\, Unit
 ed Kingdom
GEO:50.555029;-2.440632199999982
X-APPLE-STRUCTURED-LOCATION;VALUE=URI;X-ADDRESS=Yeates Rd\, Portland\, Dors
 et\, DT5 2EN\, United Kingdom;X-APPLE-RADIUS=100;X-TITLE=The Heights Hotel
 :geo:50.555029,-2.440632199999982
END:VEVENT
BEGIN:VTIMEZONE
TZID:Europe/London
X-LIC-LOCATION:Europe/London
BEGIN:DAYLIGHT
DTSTART:20160327T020000
TZOFFSETFROM:+0000
TZOFFSETTO:+0100
TZNAME:BST
END:DAYLIGHT
END:VTIMEZONE
END:VCALENDAR