BEGIN:VCALENDAR
VERSION:2.0
PRODID:-//wp-events-plugin.com//7.2.2.1//EN
TZID:Europe/London
X-WR-TIMEZONE:Europe/London
BEGIN:VEVENT
UID:9@siriusbusinessservices.co.uk
DTSTART;TZID=Europe/London:20140718T130000
DTEND;TZID=Europe/London:20140718T160000
DTSTAMP:20140616T092148Z
URL:https://www.siriusbusinessservices.co.uk/courses/fire-warden-course-me
 dical-practices/
SUMMARY:Fire Warden Course for Medical Practices
DESCRIPTION:Fire Warden Course for Medical Practices\nSirius Business Servi
 ces Ltd are working with Sharon Nicholls the Primary Care Manager of BMI W
 interbourne and BMI Harbour Hospitals to run a program of Health &amp\; Sa
 fety Training Course specifically for GP practices in the NHS Dorset\, Bou
 rnemouth &amp\; Poole CCG areas.\n\nAnyone can book on these courses\, but
  GP Practices who contact Sharon Nicholls at BMI Hospitals will be given a
  discount code to enter when booking that will give a 25% discount of the 
 course price.\n\nThis course will be specifically tailored for medical pra
 ctice. For details of standard modules included please see the link below:
 \n\nFire Warden Course\nDISCOUNT CODE\nTo get your Discount Code contact S
 haron Nicholls at Sharon.Nicholls@bmihealthcare.co.uk\n\nIf you would like
  to make suggestions on any other courses that could be run under this pro
 gramme contact gary@SiriusBusinessServices.co.uk\n\n 
ATTACH;FMTTYPE=image/jpeg:https://www.siriusbusinessservices.co.uk/wp-cont
 ent/uploads/sirius-star.jpg
CATEGORIES:BMI Hospitals,Fire Safety
LOCATION:Harbour Hospital\, Poole\, St Marys Road\, Poole\, Dorset\, BH15 2
 BH\, United Kingdom
GEO:50.7220605;-1.9749317000000701
X-APPLE-STRUCTURED-LOCATION;VALUE=URI;X-ADDRESS=St Marys Road\, Poole\, Dor
 set\, BH15 2BH\, United Kingdom;X-APPLE-RADIUS=100;X-TITLE=Harbour Hospita
 l\, Poole:geo:50.7220605,-1.9749317000000701
END:VEVENT
BEGIN:VTIMEZONE
TZID:Europe/London
X-LIC-LOCATION:Europe/London
BEGIN:DAYLIGHT
DTSTART:20140330T020000
TZOFFSETFROM:+0000
TZOFFSETTO:+0100
TZNAME:BST
END:DAYLIGHT
END:VTIMEZONE
END:VCALENDAR