BEGIN:VCALENDAR
VERSION:2.0
PRODID:-//wp-events-plugin.com//7.2.2.1//EN
TZID:Europe/London
X-WR-TIMEZONE:Europe/London
BEGIN:VEVENT
UID:45@siriusbusinessservices.co.uk
DTSTART;TZID=Europe/London:20230621T130000
DTEND;TZID=Europe/London:20230621T150000
DTSTAMP:20230530T104339Z
URL:https://www.siriusbusinessservices.co.uk/courses/fire-warden-our-ref-g
 196/
SUMMARY:Fire Warden (Our Ref: G196)
DESCRIPTION:Fire Warden "virtual" Training.\nDuration Approx 2 Hours\n\n\n\
 nThis training is suitable for clinical and non clinical staff in Primary 
 Care GP Practices and Dental Practice Staff. For Dental practice staff it 
 meets the requirements of the General Dental Council’s (GDC) enhanced CP
 D scheme and certificates meeting GDC requirements can be issued.\n\nThis 
 is interactive virtual training run live by an instructor using zoom.\n\nA
 ll delegates will need to have and supply a working email address and have
  access to a PC\, Mac book\, IPAD\, Android PAD or a smart phone\, a stabl
 e internet connection and a suitable space to join the session without int
 erruption. All delegates must have a camera and microphone on their device
  to be able to partake in the course. The camera must remain live during t
 he training to ensure the delegates are present and can fully engage in th
 e course. \n\n 	For each delegate their name will need to be added as it 
 is to appear on their certificate and their individual email address will 
 need to be supplied\n 	If successfully completed you will get an emailed c
 onfirmation.\n 	All delegates will get emailed joining instructions direct
  to their individual email address\n 	Delegates should click on the link a
 t least 5 minutes before the allotted start time and they will be put into
  a waiting room\n 	Delegates that do not join the session at the allotted 
 start time will not be permitted entry\, delegates are expected to remain 
 for the entire session to be issued with a certificate\n 	A technical supp
 ort number will be available for any delegates that get issues joining the
  session\n 	At the end of the course delegates will be sent a course quest
 ion paper to complete consisting of multiple choice questions\n\nIF YOU HA
 VE 10 OR MORE DELEGATES IT IS MORE COST EFFECTIVE TO BOOK A DEDICATED COUR
 SE FOR YOUR PRACTICE - Please call us on 0800 999 3998\n\nPlease refer any
  enquiries with regards this booking to training@siriusbusinessservices.c
 o.uk
CATEGORIES:Fire Safety,NHS,NHS Dorset Bournemouth &amp; Poole,NHS Dorset
 W&amp;P
END:VEVENT
BEGIN:VTIMEZONE
TZID:Europe/London
X-LIC-LOCATION:Europe/London
BEGIN:DAYLIGHT
DTSTART:20230326T020000
TZOFFSETFROM:+0000
TZOFFSETTO:+0100
TZNAME:BST
END:DAYLIGHT
END:VTIMEZONE
END:VCALENDAR