BEGIN:VCALENDAR
VERSION:2.0
PRODID:-//wp-events-plugin.com//7.2.2.1//EN
TZID:Europe/London
X-WR-TIMEZONE:Europe/London
BEGIN:VEVENT
UID:2@siriusbusinessservices.co.uk
DTSTART;TZID=Europe/London:20140203T090000
DTEND;TZID=Europe/London:20140203T123000
DTSTAMP:20140115T165052Z
URL:https://www.siriusbusinessservices.co.uk/courses/fire-warden/
SUMMARY:Fire Warden
DESCRIPTION:This interactive and comprehensive half-day course has been des
 igned to assist employers in meeting their legal obligations under the Reg
 ulatory Reform (Fire Safety) Order 2005.\n\nFull details here: Fire Warden
  Training
CATEGORIES:Fire Safety
LOCATION:Weymouth South Scout Hut\, Rylands Lane\, Weymouth\, Dorset\, DT4 
 9PY\, Wyke Regis\, United Kingdom
GEO:50.5958775;-2.4691808999999694
X-APPLE-STRUCTURED-LOCATION;VALUE=URI;X-ADDRESS=Rylands Lane\, Weymouth\, D
 orset\, DT4 9PY\, Wyke Regis\, United Kingdom;X-APPLE-RADIUS=100;X-TITLE=W
 eymouth South Scout Hut:geo:50.5958775,-2.4691808999999694
END:VEVENT
BEGIN:VTIMEZONE
TZID:Europe/London
X-LIC-LOCATION:Europe/London
BEGIN:STANDARD
DTSTART:20131027T010000
TZOFFSETFROM:+0100
TZOFFSETTO:+0000
TZNAME:GMT
END:STANDARD
END:VTIMEZONE
END:VCALENDAR