BEGIN:VCALENDAR
VERSION:2.0
PRODID:-//wp-events-plugin.com//7.2.2.1//EN
TZID:Europe/London
X-WR-TIMEZONE:Europe/London
BEGIN:VEVENT
UID:78@siriusbusinessservices.co.uk
DTSTART;TZID=Europe/London:20240604T093000
DTEND;TZID=Europe/London:20240604T123000
DTSTAMP:20231207T205026Z
URL:https://www.siriusbusinessservices.co.uk/courses/health-and-safety-for
 -primary-care-practice-managers-our-ref-g316/
SUMMARY:Health and Safety for Primary Care Practice Managers  (Our Ref: G31
 6)
DESCRIPTION:Health and Safety for Primary Care Practice Managers \nDuration
  Approx 3 Hours\n\n\nOverview\nA course specifically designed to provide H
 ealth and Safety advice and information\, including the application of ris
 k assessment\, for Practice Managers\, Assistant Practice Managers\, Opera
 tions Managers and other Managers and Supervisors who lead on Health and S
 afety and Risk Assessment within their GP Surgery/Practice\, Primary Care 
 Network (PCN)\, Medical Centre\, Dental Practice or other primary care set
 ting.\nEvent Details\nA virtual course run over zoom\, delegates will requ
 ire a PC\, Laptop\, Pad Device or smart phone with stable internet connect
 ion and working camera and microphone to be able to join this course.\n\nZ
 oom Registration 0915\n\nTraining 0930-1230\nInclusive Offers\nAll delegat
 es who attend the course will be offered a post course 15 minute free one 
 to one telephone consultation to answer questions or provide specific advi
 ce on any issues of concern to delegates or the delegates workplace.\nCont
 ent\n\n 	Health &amp\; Safety Law\n 	Manual handling\n 	Display screen equ
 ipment\n 	Electrical safety (PAT and fixed electrical installations)\n 	Fi
 re safety\n 	Healthcare hazards\,\n\n 	Cryotherapy\n 	sharps and needle st
 ick injuries\,\n 	Medical gasses (Oxygen)\n 	Biological hazards\n\n\n 	Haz
 ardous substances (COSHH etc)\n 	Asbestos\n 	Legionella\n 	Drugs and alcoh
 ol\n 	Stress\n 	First Aid\n 	Use and control of maintenance contractors\n 
 	Common accidents and prevention\n 	Accident Reporting and RIDDOR\n 	Healt
 h and safety myths dispelled\n 	Risk assessment\n\n 	Approaches\n 	What ne
 eds to be assessed\n 	Templates\n 	Typical assessments\n 	Explanation of k
 ey health and safety phrases “suitable and sufficient\, “reasonably pr
 acticable” and “competent person”\n 	Practical risk assessment exerc
 ise\n\n\n 	Options for health and safety advice and support.\n 	Open forum
  (chance to share problems and issues and seek solutions)\n\nSpeaker\nGary
  Hepburn\nThe course is led by Gary Hepburn. Gary set up Sirius Business S
 ervices Ltd (Sirius) at the end of 2000. Gary is a member of many professi
 onal bodies such as Institution of Occupational Safety and Health\, Intern
 ational Institute of Risk and Safety Managers\, Institute for Learning\, R
 oyal College of Nursing\, Association of Healthcare Trainers\, the Council
  for Professionals as Resuscitation Officers and the Institution of Fire E
 ngineers. Gary has held several senior appointments in the NHS in Primary 
 Care\, Community Hospitals\, Emergency Care and Mental Health.\n\nGary’s
  has been an active first aider/medic since he first qualified as a Dive M
 edic over 30 years ago and has many years hands on experience in event med
 ical services\, medical repatriation and as a first responder for the NHS.
  He has also qualified as an Emergency Medical Technician (EMT).\n\nGary h
 as been a health\, safety and security professional  in the fields of Ato
 mic Energy\, Facilities Management\, Healthcare\, Government\, Commercial\
 , Education and Charity sectors. Gary has led and developed training progr
 ammes and provided advice and consultancy for over 30 years. He has specia
 lised in NHS/Primary Care for the last 20 years.\nCost\n£75 + VAT per del
 egate\nEnquiries\nPlease call 0800 999 3998 or email info@siriusbusinessse
 rvices.co.uk\nCertification\nAll those who attend the full session will be
  provided with a certificate of attendance.
CATEGORIES:First Aid &amp; Medical,NHS,NHS Dorset Bournemouth &amp;
 Poole,NHS Dorset W&amp;P
END:VEVENT
BEGIN:VTIMEZONE
TZID:Europe/London
X-LIC-LOCATION:Europe/London
BEGIN:DAYLIGHT
DTSTART:20240331T020000
TZOFFSETFROM:+0000
TZOFFSETTO:+0100
TZNAME:BST
END:DAYLIGHT
END:VTIMEZONE
END:VCALENDAR